BEGIN:VCALENDAR
VERSION:2.0
PRODID:-//Finlandia Foundation National - ECPv6.15.20//NONSGML v1.0//EN
CALSCALE:GREGORIAN
METHOD:PUBLISH
X-WR-CALNAME:Finlandia Foundation National
X-ORIGINAL-URL:https://finlandiafoundation.org
X-WR-CALDESC:Events for Finlandia Foundation National
REFRESH-INTERVAL;VALUE=DURATION:PT1H
X-Robots-Tag:noindex
X-PUBLISHED-TTL:PT1H
BEGIN:VTIMEZONE
TZID:America/New_York
BEGIN:DAYLIGHT
TZOFFSETFROM:-0500
TZOFFSETTO:-0400
TZNAME:EDT
DTSTART:20160313T070000
END:DAYLIGHT
BEGIN:STANDARD
TZOFFSETFROM:-0400
TZOFFSETTO:-0500
TZNAME:EST
DTSTART:20161106T060000
END:STANDARD
BEGIN:DAYLIGHT
TZOFFSETFROM:-0500
TZOFFSETTO:-0400
TZNAME:EDT
DTSTART:20170312T070000
END:DAYLIGHT
BEGIN:STANDARD
TZOFFSETFROM:-0400
TZOFFSETTO:-0500
TZNAME:EST
DTSTART:20171105T060000
END:STANDARD
BEGIN:DAYLIGHT
TZOFFSETFROM:-0500
TZOFFSETTO:-0400
TZNAME:EDT
DTSTART:20180311T070000
END:DAYLIGHT
BEGIN:STANDARD
TZOFFSETFROM:-0400
TZOFFSETTO:-0500
TZNAME:EST
DTSTART:20181104T060000
END:STANDARD
BEGIN:DAYLIGHT
TZOFFSETFROM:-0500
TZOFFSETTO:-0400
TZNAME:EDT
DTSTART:20190310T070000
END:DAYLIGHT
BEGIN:STANDARD
TZOFFSETFROM:-0400
TZOFFSETTO:-0500
TZNAME:EST
DTSTART:20191103T060000
END:STANDARD
BEGIN:DAYLIGHT
TZOFFSETFROM:-0500
TZOFFSETTO:-0400
TZNAME:EDT
DTSTART:20200308T070000
END:DAYLIGHT
BEGIN:STANDARD
TZOFFSETFROM:-0400
TZOFFSETTO:-0500
TZNAME:EST
DTSTART:20201101T060000
END:STANDARD
BEGIN:DAYLIGHT
TZOFFSETFROM:-0500
TZOFFSETTO:-0400
TZNAME:EDT
DTSTART:20210314T070000
END:DAYLIGHT
BEGIN:STANDARD
TZOFFSETFROM:-0400
TZOFFSETTO:-0500
TZNAME:EST
DTSTART:20211107T060000
END:STANDARD
BEGIN:DAYLIGHT
TZOFFSETFROM:-0500
TZOFFSETTO:-0400
TZNAME:EDT
DTSTART:20220313T070000
END:DAYLIGHT
BEGIN:STANDARD
TZOFFSETFROM:-0400
TZOFFSETTO:-0500
TZNAME:EST
DTSTART:20221106T060000
END:STANDARD
BEGIN:DAYLIGHT
TZOFFSETFROM:-0500
TZOFFSETTO:-0400
TZNAME:EDT
DTSTART:20230312T070000
END:DAYLIGHT
BEGIN:STANDARD
TZOFFSETFROM:-0400
TZOFFSETTO:-0500
TZNAME:EST
DTSTART:20231105T060000
END:STANDARD
BEGIN:DAYLIGHT
TZOFFSETFROM:-0500
TZOFFSETTO:-0400
TZNAME:EDT
DTSTART:20240310T070000
END:DAYLIGHT
BEGIN:STANDARD
TZOFFSETFROM:-0400
TZOFFSETTO:-0500
TZNAME:EST
DTSTART:20241103T060000
END:STANDARD
BEGIN:DAYLIGHT
TZOFFSETFROM:-0500
TZOFFSETTO:-0400
TZNAME:EDT
DTSTART:20250309T070000
END:DAYLIGHT
BEGIN:STANDARD
TZOFFSETFROM:-0400
TZOFFSETTO:-0500
TZNAME:EST
DTSTART:20251102T060000
END:STANDARD
END:VTIMEZONE
BEGIN:VEVENT
DTSTART;TZID=America/New_York:20240316T193000
DTEND;TZID=America/New_York:20240316T220000
DTSTAMP:20260420T093119
CREATED:20240309T182115Z
LAST-MODIFIED:20240309T182145Z
UID:16417-1710617400-1710626400@finlandiafoundation.org
SUMMARY:CA: All Sibelius Concert
DESCRIPTION:Esa-Pekka Salonen conducts the San Francisco Symphony in an all-Sibelius program.
URL:https://finlandiafoundation.org/event/ca-all-sibelius-concert-3/
CATEGORIES:Sibelius Concert
END:VEVENT
BEGIN:VEVENT
DTSTART;TZID=America/New_York:20200502T110000
DTEND;TZID=America/New_York:20200502T120000
DTSTAMP:20260420T093119
CREATED:20190723T053055Z
LAST-MODIFIED:20190723T053055Z
UID:6708-1588417200-1588420800@finlandiafoundation.org
SUMMARY:WA: Seattle Symphony Family Concert
DESCRIPTION:Come with us on a journey through Scandinavia with our friend Peer Gynt! Made popular by Looney Tunes and The Simpsons\, Grieg’s Peer Gynt Suite transports you to the lush vastness of Scandinavia with popular tunes like Morning Mood and In the Hall of the Mountain King. Our journey ends in Finland where we’ll need your help to perform Sibelius’ expansive Finlandia. Are you up for the journey? Let’s go!
URL:https://finlandiafoundation.org/event/wa-seattle-symphony-family-concert/
LOCATION:Benaroya Hall\, Seattle\, WA\, United States
CATEGORIES:Scandinavian heritage events,Sibelius Concert
END:VEVENT
BEGIN:VEVENT
DTSTART;TZID=America/New_York:20200501T200000
DTEND;TZID=America/New_York:20200501T220000
DTSTAMP:20260420T093119
CREATED:20190713T105755Z
LAST-MODIFIED:20190713T105755Z
UID:6564-1588363200-1588370400@finlandiafoundation.org
SUMMARY:CA: All Finnish Concert
DESCRIPTION:Susanna Mälkki conducts the LA Phil in the premiere of Kaija Saariaho’s new work “Vista” plus the “Lemminkäinen Suite\,” which tells four stories from the Finnish national saga\, the Kalevala\, about the hero Lemminkäinen. Sibelius pulls out all his descriptive stops to create the wide-open\, Northern musical landscape in which these tales play out\, ranging from humorous to harrowing to haunting.
URL:https://finlandiafoundation.org/event/ca-malkki-conducts-sibelius/
LOCATION:Walt Disney Concert Hall\, Los Angeles\, CA\, United States
CATEGORIES:Finnish conductor,Sibelius Concert
END:VEVENT
BEGIN:VEVENT
DTSTART;TZID=America/New_York:20200208T200000
DTEND;TZID=America/New_York:20200208T220000
DTSTAMP:20260420T093119
CREATED:20190713T120236Z
LAST-MODIFIED:20190713T120236Z
UID:6600-1581192000-1581199200@finlandiafoundation.org
SUMMARY:OH: Mälkki Conducts Sibelius
DESCRIPTION:Susanna Mälkki leads the Cleveland Orchestra with violinist Leila Josefowicz: \nSIBELIUS – En Saga\nKNUSSEN – Violin Concerto\nSIBELIUS – Symphony No. 1
URL:https://finlandiafoundation.org/event/oh-malkki-conducts-sibelius-2/
LOCATION:Severance Hall\, Cleveland\, OH\, United States
CATEGORIES:Finnish conductor,Sibelius Concert
END:VEVENT
BEGIN:VEVENT
DTSTART;TZID=America/New_York:20191206T190000
DTEND;TZID=America/New_York:20191206T210000
DTSTAMP:20260420T093119
CREATED:20191023T201248Z
LAST-MODIFIED:20191023T201248Z
UID:7015-1575658800-1575666000@finlandiafoundation.org
SUMMARY:OR: Ruusamari Teppo in Concert
DESCRIPTION:In celebration of Finland’s 102nd anniversary of independence\, pianist Ruusamari Teppo\, the great-great-granddaughter of Jean Sibelius\, will play a concert. This event is co-sponsored by FFCPC and Messiah Lutheran church\, Portland’s Finnish church.
URL:https://finlandiafoundation.org/event/or-ruusamari-teppo-in-concert/
LOCATION:Nordia House
CATEGORIES:Finnish-American Events,Sibelius Concert
END:VEVENT
BEGIN:VEVENT
DTSTART;TZID=America/New_York:20191109T200000
DTEND;TZID=America/New_York:20191109T220000
DTSTAMP:20260420T093119
CREATED:20191104T122829Z
LAST-MODIFIED:20191104T122829Z
UID:7038-1573329600-1573336800@finlandiafoundation.org
SUMMARY:MI: Detroit Symphony Orchestra
DESCRIPTION:Rising Finnish conductor Dalia Stasevska and Macedonian pianist Simon Trpčeski perform with the Detroit Symphony Orchestra Tchaikovsky’s First Concerto\, Sibelius’ First Symphony and a new work by Julia Wolfe.
URL:https://finlandiafoundation.org/event/mi-detroit-symphony-orchestra-3/
LOCATION:Detroit’s Orchestra Hall\, Detroit\, MI\, United States
CATEGORIES:Finnish conductor,Sibelius Concert
END:VEVENT
BEGIN:VEVENT
DTSTART;TZID=America/New_York:20191108T103000
DTEND;TZID=America/New_York:20191108T123000
DTSTAMP:20260420T093119
CREATED:20191104T122644Z
LAST-MODIFIED:20191104T122644Z
UID:7036-1573209000-1573216200@finlandiafoundation.org
SUMMARY:MI: Detroit Symphony Orchestra
DESCRIPTION:Rising Finnish conductor Dalia Stasevska and Macedonian pianist Simon Trpčeski perform with the Detroit Symphony Orchestra Tchaikovsky’s First Concerto\, Sibelius’ First Symphony and a new work by Julia Wolfe.
URL:https://finlandiafoundation.org/event/mi-detroit-symphony-orchestra-2/
LOCATION:Detroit’s Orchestra Hall\, Detroit\, MI\, United States
CATEGORIES:Finnish conductor,Sibelius Concert
END:VEVENT
BEGIN:VEVENT
DTSTART;TZID=America/New_York:20191107T193000
DTEND;TZID=America/New_York:20191107T213000
DTSTAMP:20260420T093119
CREATED:20191104T122438Z
LAST-MODIFIED:20191104T122438Z
UID:7033-1573155000-1573162200@finlandiafoundation.org
SUMMARY:MI: Detroit Symphony Orchestra
DESCRIPTION:Rising Finnish conductor Dalia Stasevska and Macedonian pianist Simon Trpčeski perform with the Detroit Symphony Orchestra Tchaikovsky’s First Concerto\, Sibelius’ First Symphony and a new work by Julia Wolfe.
URL:https://finlandiafoundation.org/event/mi-detroit-symphony-orchestra/
LOCATION:Orchestra Hall\, Detroit\, Michigan
CATEGORIES:Finnish conductor,Sibelius Concert
END:VEVENT
BEGIN:VEVENT
DTSTART;TZID=America/New_York:20191026T200000
DTEND;TZID=America/New_York:20191026T220000
DTSTAMP:20260420T093119
CREATED:20190713T105251Z
LAST-MODIFIED:20190713T105251Z
UID:6561-1572120000-1572127200@finlandiafoundation.org
SUMMARY:CA: Salonen & Sibelius
DESCRIPTION:LA Phil Centennial celebration with Salonen\, who not only brings music by Sibelius but also the premiere of his complete Castor and Pollux. Joining him for Luonnotar is stunning South African soprano Golda Schultz.
URL:https://finlandiafoundation.org/event/ca-salonen-sibelius/
LOCATION:Walt Disney Concert Hall\, Los Angeles\, CA\, United States
CATEGORIES:Finnish conductor,Sibelius Concert
END:VEVENT
BEGIN:VEVENT
DTSTART;TZID=America/New_York:20190311T200000
DTEND;TZID=America/New_York:20190311T220000
DTSTAMP:20260420T093120
CREATED:20180912T144211Z
LAST-MODIFIED:20180912T144211Z
UID:5274-1552334400-1552341600@finlandiafoundation.org
SUMMARY:NY: Philharmonia Orchestra
DESCRIPTION:Esa-Pekka Salonen conducts London’s Philharmonia Orchestra in New York City\, in a program featuring his composition Cello Concerto\, and The Oceanides by Jean Sibelius.
URL:https://finlandiafoundation.org/event/ny-philharmonia-orchestra/
LOCATION:Lincoln Center\, New York\, NY\, United States
CATEGORIES:Sibelius Concert
END:VEVENT
BEGIN:VEVENT
DTSTART;TZID=America/New_York:20180603T140000
DTEND;TZID=America/New_York:20180603T153000
DTSTAMP:20260420T093120
CREATED:20180309T125230Z
LAST-MODIFIED:20180309T125230Z
UID:4626-1528034400-1528039800@finlandiafoundation.org
SUMMARY:WA: Sibelius Kullervo
DESCRIPTION:As a follow up to the thrilling Seattle Symphony Sibelius Festival in 2015\, Principal Guest Conductor Thomas Dausgaard brings his unique insights into Sibelius’ world with Kullervo\, an adventurous saga derived from Finnish folk mythology. When the young Sibelius embraced his national identity\, he raised new hope and pride in Finland while forever altering the course of symphonic music. \nFeaturing past FFN Performer of the Year\, soprano Maria Männistö.
URL:https://finlandiafoundation.org/event/wa-sibelius-kullervo-3/
LOCATION:Benaroya Hall\, Seattle\, WA\, United States
CATEGORIES:Performer of the Year,Sibelius Concert
END:VEVENT
BEGIN:VEVENT
DTSTART;TZID=America/New_York:20180602T200000
DTEND;TZID=America/New_York:20180602T213000
DTSTAMP:20260420T093120
CREATED:20180309T125045Z
LAST-MODIFIED:20180309T125045Z
UID:4624-1527969600-1527975000@finlandiafoundation.org
SUMMARY:WA: Sibelius Kullervo
DESCRIPTION:As a follow up to the thrilling Seattle Symphony Sibelius Festival in 2015\, Principal Guest Conductor Thomas Dausgaard brings his unique insights into Sibelius’ world with Kullervo\, an adventurous saga derived from Finnish folk mythology. When the young Sibelius embraced his national identity\, he raised new hope and pride in Finland while forever altering the course of symphonic music. \nFeaturing past FFN Performer of the Year\, soprano Maria Männistö.
URL:https://finlandiafoundation.org/event/wa-sibelius-kullervo-2/
LOCATION:Benaroya Hall\, Seattle\, WA\, United States
CATEGORIES:Performer of the Year,Sibelius Concert
END:VEVENT
BEGIN:VEVENT
DTSTART;TZID=America/New_York:20180531T193000
DTEND;TZID=America/New_York:20180531T210000
DTSTAMP:20260420T093120
CREATED:20180309T124759Z
LAST-MODIFIED:20180309T124759Z
UID:4621-1527795000-1527800400@finlandiafoundation.org
SUMMARY:WA: Sibelius Kullervo
DESCRIPTION:As a follow up to the thrilling Seattle Symphony Sibelius Festival in 2015\, Principal Guest Conductor Thomas Dausgaard brings his unique insights into Sibelius’ world with Kullervo\, an adventurous saga derived from Finnish folk mythology. When the young Sibelius embraced his national identity\, he raised new hope and pride in Finland while forever altering the course of symphonic music. \nFeaturing past FFN Performer of the Year\, soprano Maria Männistö.
URL:https://finlandiafoundation.org/event/wa-sibelius-kullervo/
LOCATION:Benaroya Hall\, Seattle\, WA\, United States
CATEGORIES:Sibelius Concert
END:VEVENT
BEGIN:VEVENT
DTSTART;TZID=America/New_York:20180422T150000
DTEND;TZID=America/New_York:20180422T170000
DTSTAMP:20260420T093120
CREATED:20180314T104032Z
LAST-MODIFIED:20180314T104032Z
UID:4691-1524409200-1524416400@finlandiafoundation.org
SUMMARY:MA: Afternoon Concert
DESCRIPTION:Pianist Mackenzie Melemed and Soprano Ilona Jokinen will perform works by Sibelius\, Schumann\, Rachmaninoff\, Strauss\, Grieg\, and Puccini. The program will be followed by a coffee table reception. In Newton.
URL:https://finlandiafoundation.org/event/ma-afternoon-concert/
LOCATION:Scandinavian Cultural Center – MA\, West Newton\, MA\, United States
CATEGORIES:Sibelius Concert
END:VEVENT
BEGIN:VEVENT
DTSTART;TZID=America/New_York:20180421T193000
DTEND;TZID=America/New_York:20180421T213000
DTSTAMP:20260420T093120
CREATED:20180313T193354Z
LAST-MODIFIED:20180313T193354Z
UID:4679-1524339000-1524346200@finlandiafoundation.org
SUMMARY:UT: All-Nordic Concert
DESCRIPTION:The Utah Symphony performs Sibelius’ Symphony No. 2 and works by Nielsen and Grieg.
URL:https://finlandiafoundation.org/event/ut-all-nordic-concert-2/
LOCATION:Abravanel Hall\, Salt Lake City\, UT\, United States
CATEGORIES:Sibelius Concert
END:VEVENT
BEGIN:VEVENT
DTSTART;TZID=America/New_York:20180420T193000
DTEND;TZID=America/New_York:20180420T213000
DTSTAMP:20260420T093120
CREATED:20180313T193230Z
LAST-MODIFIED:20180313T193230Z
UID:4676-1524252600-1524259800@finlandiafoundation.org
SUMMARY:UT: All-Nordic Concert
DESCRIPTION:The Utah Symphony performs Sibelius’ Symphony No. 2 and works by Nielsen and Grieg.
URL:https://finlandiafoundation.org/event/ut-all-nordic-concert/
LOCATION:Abravanel Hall\, Salt Lake City\, UT\, United States
CATEGORIES:Sibelius Concert
END:VEVENT
BEGIN:VEVENT
DTSTART;TZID=America/New_York:20180318T140000
DTEND;TZID=America/New_York:20180318T160000
DTSTAMP:20260420T093120
CREATED:20180115T230217Z
LAST-MODIFIED:20180115T230217Z
UID:4316-1521381600-1521388800@finlandiafoundation.org
SUMMARY:CA: Beethoven & Sibelius
DESCRIPTION:For this program of the Los Angeles Philharmonic\, eminent and revered Swedish Maestro Herbert Blomstedt has programmed a pair of beloved second symphonies (in the same key) that differ dramatically from one another\, resulting in an unexpected and richly rewarding symbiosis. Pre-concert talks begins one hour earlier.
URL:https://finlandiafoundation.org/event/ca-beethoven-sibelius-3/
LOCATION:Walt Disney Concert Hall\, Los Angeles\, CA\, United States
CATEGORIES:Sibelius Concert
END:VEVENT
BEGIN:VEVENT
DTSTART;TZID=America/New_York:20180317T140000
DTEND;TZID=America/New_York:20180317T160000
DTSTAMP:20260420T093120
CREATED:20180115T230007Z
LAST-MODIFIED:20180115T230007Z
UID:4314-1521295200-1521302400@finlandiafoundation.org
SUMMARY:CA: Beethoven & Sibelius
DESCRIPTION:For this program of the Los Angeles Philharmonic\, eminent and revered Swedish Maestro Herbert Blomstedt has programmed a pair of beloved second symphonies (in the same key) that differ dramatically from one another\, resulting in an unexpected and richly rewarding symbiosis. Pre-concert talks begins one hour earlier.
URL:https://finlandiafoundation.org/event/ca-beethoven-sibelius-2/
LOCATION:Walt Disney Concert Hall\, Los Angeles\, CA\, United States
CATEGORIES:Sibelius Concert
END:VEVENT
BEGIN:VEVENT
DTSTART;TZID=America/New_York:20180316T200000
DTEND;TZID=America/New_York:20180316T220000
DTSTAMP:20260420T093120
CREATED:20180115T225818Z
LAST-MODIFIED:20180115T225818Z
UID:4312-1521230400-1521237600@finlandiafoundation.org
SUMMARY:CA: Beethoven & Sibelius
DESCRIPTION:For this program of the Los Angeles Philharmonic\, eminent and revered Swedish Maestro Herbert Blomstedt has programmed a pair of beloved second symphonies (in the same key) that differ dramatically from one another\, resulting in an unexpected and richly rewarding symbiosis. Pre-concert talks begins one hour earlier.
URL:https://finlandiafoundation.org/event/ca-beethoven-sibelius/
LOCATION:Walt Disney Concert Hall\, Los Angeles\, CA\, United States
CATEGORIES:Sibelius Concert
END:VEVENT
BEGIN:VEVENT
DTSTART;TZID=America/New_York:20180314T193000
DTEND;TZID=America/New_York:20180314T193000
DTSTAMP:20260420T093120
CREATED:20180314T100300Z
LAST-MODIFIED:20180314T100300Z
UID:4685-1521055800-1521055800@finlandiafoundation.org
SUMMARY:NY: JHO Concert
DESCRIPTION:Pianist Markus Kaitila performs with the Jackson Heights Orchestra in Astoria. \nThe orchestra’s program includes Sibelius’ Karelia Overture.
URL:https://finlandiafoundation.org/event/ny-jho-concert/
LOCATION:St. Joseph’s RC Church\, Astoria\, NY\, United States
CATEGORIES:Sibelius Concert
END:VEVENT
BEGIN:VEVENT
DTSTART;TZID=America/New_York:20180312T193000
DTEND;TZID=America/New_York:20180312T213000
DTSTAMP:20260420T093120
CREATED:20180309T124219Z
LAST-MODIFIED:20180309T124219Z
UID:4616-1520883000-1520890200@finlandiafoundation.org
SUMMARY:WA: Nordic Passion
DESCRIPTION:In a program with Rossini and Brahms\, Cascade Symphony performs Sibelius Symphony No.1\, op. 39\, E minor
URL:https://finlandiafoundation.org/event/wa-nordic-passion/
LOCATION:Edmonds Center for the Arts\, Edmonds\, WA\, United States
CATEGORIES:Sibelius Concert
END:VEVENT
BEGIN:VEVENT
DTSTART;TZID=America/New_York:20180222T080000
DTEND;TZID=America/New_York:20180222T170000
DTSTAMP:20260420T093120
CREATED:20180127T202324Z
LAST-MODIFIED:20180127T202324Z
UID:4427-1519286400-1519318800@finlandiafoundation.org
SUMMARY:AZ: Arizona Musicfest
DESCRIPTION:Russian pianist Olga Kern will be performing Rachmaninoff’s Piano Concerto No. 3 at the Arizona Musicfest. Maestro Robert Moody and the Festival Orchestra begin the evening with Copland’s Fanfare for the Common Man\, followed by the Symphony No. 5 by Finnish composer Jean Sibelius.
URL:https://finlandiafoundation.org/event/az-arizona-musicfest/
LOCATION:La Casa de Cristo Church\, Scottsdale\, AZ\, United States
CATEGORIES:Finnish-American Events,Sibelius Concert
END:VEVENT
BEGIN:VEVENT
DTSTART;TZID=America/New_York:20180128T150000
DTEND;TZID=America/New_York:20180128T170000
DTSTAMP:20260420T093120
CREATED:20180126T014445Z
LAST-MODIFIED:20180126T014445Z
UID:4386-1517151600-1517158800@finlandiafoundation.org
SUMMARY:IL: Vänskä Conducts Sibelius
DESCRIPTION:Visiting the Chicago Symphony Center\, Osmo Vänskä and his celebrated Minnesota Orchestra—both superb Sibelius interpreters—head to Orchestra Hall for the composer’s profound symphonic poem En Saga\, along with Tchaikovsky’s majestic First Piano Concerto with Israeli pianist Inon Barnatan and Beethoven’s Symphony No. 7.
URL:https://finlandiafoundation.org/event/il-vanska-conducts-sibelius/
LOCATION:Chicago Symphony Center\, Chicago\, IL\, United States
CATEGORIES:Sibelius Concert
END:VEVENT
BEGIN:VEVENT
DTSTART;TZID=America/New_York:20180128T140000
DTEND;TZID=America/New_York:20180128T160000
DTSTAMP:20260420T093120
CREATED:20180127T203019Z
LAST-MODIFIED:20180127T203019Z
UID:4435-1517148000-1517155200@finlandiafoundation.org
SUMMARY:AZ: Sibelius and Debussy
DESCRIPTION:Guest Conductor Karina Canellakis makes her Phoenix Symphony debut in an imaginative\, impressionistic program sure to make a splash. Debussy\, Britten and Sibelius contribute works that capture the many moods of the sea\, with its sun-drenched waves and watery depths.
URL:https://finlandiafoundation.org/event/az-sibelius-and-debussy-2/
LOCATION:Phoenix Symphony Hall\, Phoenix\, AZ\, United States
CATEGORIES:Sibelius Concert
END:VEVENT
BEGIN:VEVENT
DTSTART;TZID=America/New_York:20180127T193000
DTEND;TZID=America/New_York:20180127T213000
DTSTAMP:20260420T093120
CREATED:20180127T202849Z
LAST-MODIFIED:20180127T202849Z
UID:4431-1517081400-1517088600@finlandiafoundation.org
SUMMARY:AZ: Sibelius and Debussy
DESCRIPTION:Guest Conductor Karina Canellakis makes her Phoenix Symphony debut in an imaginative\, impressionistic program sure to make a splash. Debussy\, Britten and Sibelius contribute works that capture the many moods of the sea\, with its sun-drenched waves and watery depths.
URL:https://finlandiafoundation.org/event/az-sibelius-and-debussy/
LOCATION:Phoenix Symphony Hall\, Phoenix\, AZ\, United States
CATEGORIES:Sibelius Concert
END:VEVENT
BEGIN:VEVENT
DTSTART;VALUE=DATE:20171203
DTEND;VALUE=DATE:20171204
DTSTAMP:20260420T093120
CREATED:20170222T165915Z
LAST-MODIFIED:20170222T165915Z
UID:3071-1512259200-1512345599@finlandiafoundation.org
SUMMARY:IL: Chicago Symphony Orchestra & Sibelius
DESCRIPTION:SHAHAM PERFORMS MENDELSSOHN \nGil Shaham\, one of today’s pre-eminent violinists and “a virtuoso of deeply intense sincerity” (The New York Times)\, performs Mendelssohn’s enchanting and well-loved concerto. \nAn acclaimed interpreter of Sibelius\, Finnish conductor John Storgårds makes his CSO debut leading the composer’s first symphonic masterpiece. \nPROGRAM \nGrieg Suite No. 1 from Peer Gynt\nMendelssohn Violin Concerto\nSibelius Symphony No. 1 \nrowse-performances/?composer=Sibelius#sthash.WwnsjbIo.dpuf
URL:https://finlandiafoundation.org/event/il-chicago-symphony-orchestra-sibelius/
LOCATION:Symphony Center\, Chicago \, IL\, United States
CATEGORIES:Sibelius Concert
END:VEVENT
BEGIN:VEVENT
DTSTART;TZID=America/New_York:20171119T140000
DTEND;TZID=America/New_York:20171119T163000
DTSTAMP:20260420T093120
CREATED:20170926T022353Z
LAST-MODIFIED:20170926T022353Z
UID:3954-1511100000-1511109000@finlandiafoundation.org
SUMMARY:AZ: Tucson Symphony Salute to Finland 100
DESCRIPTION:The program salutes Finland’s 100th Independence Day by opening with the playing of Finlandia\, followed by Tchaikovsky’s thematically rich and brilliantly orchestrated Symphony No. 3 and The Grieg Piano Concerto.
URL:https://finlandiafoundation.org/event/az-tucson-symphony-salute-to-finland-100/
LOCATION:Tucson Music Hall\, Tucson\, AZ\, United States
CATEGORIES:Finland 100 Events,Finnish-American Events,Sibelius Concert
END:VEVENT
BEGIN:VEVENT
DTSTART;TZID=America/New_York:20171117T193000
DTEND;TZID=America/New_York:20171117T210000
DTSTAMP:20260420T093120
CREATED:20170926T022623Z
LAST-MODIFIED:20170926T022623Z
UID:3957-1510947000-1510952400@finlandiafoundation.org
SUMMARY:AZ: Tucson Symphony Salutes Finland 100
DESCRIPTION:The program salutes Finland’s 100th Independence Day by opening with the playing of Finlandia\, followed by Tchaikovsky’s thematically rich and brilliantly orchestrated Symphony No. 3 and The Grieg Piano Concerto. \nThe program is repeated on Sunday the 19th.
URL:https://finlandiafoundation.org/event/az-tucson-symphony-salutes-finland-100/
LOCATION:Tucson Music Hall\, Tucson\, AZ\, United States
CATEGORIES:Finland 100 Events,Finnish-American Events,Sibelius Concert
END:VEVENT
BEGIN:VEVENT
DTSTART;TZID=America/New_York:20171008T150000
DTEND;TZID=America/New_York:20171008T170000
DTSTAMP:20260420T093120
CREATED:20170926T015442Z
LAST-MODIFIED:20170926T015442Z
UID:3945-1507474800-1507482000@finlandiafoundation.org
SUMMARY:MN: Suomi...How We Love You
DESCRIPTION:The Bloomington Symphony Orchestra and Suomi Finland 100 Chorus will perform a concert of Finnish music at the Gordon S. Ives Auditorium in the Masonic Heritage Center in Bloomington. The Suomi Finland 100 Chorus\, under the direction of Eeva Savolainen\, is made up of 65 musicians\, including singers from the Bloomington Chorale\, and Angelica Encore Chorus\, in addition to local Finns who have been singing together for years. \nThe symphonic and choral compositions of Sibelius and Rautavaara will grace this performance\, depicting the journey of Finland from its birth to the highly-developed modern country it is today. 
URL:https://finlandiafoundation.org/event/mn-suomi-how-we-love-you/
LOCATION:Masonic Heritage Center\, Bloomington\, MN\, United States
CATEGORIES:Finland 100 Events,Finnish-American Events,Sibelius Concert
END:VEVENT
END:VCALENDAR