BEGIN:VCALENDAR
VERSION:2.0
PRODID:-//Finlandia Foundation National - ECPv6.15.20//NONSGML v1.0//EN
CALSCALE:GREGORIAN
METHOD:PUBLISH
X-WR-CALNAME:Finlandia Foundation National
X-ORIGINAL-URL:https://finlandiafoundation.org
X-WR-CALDESC:Events for Finlandia Foundation National
REFRESH-INTERVAL;VALUE=DURATION:PT1H
X-Robots-Tag:noindex
X-PUBLISHED-TTL:PT1H
BEGIN:VTIMEZONE
TZID:America/New_York
BEGIN:DAYLIGHT
TZOFFSETFROM:-0500
TZOFFSETTO:-0400
TZNAME:EDT
DTSTART:20230312T070000
END:DAYLIGHT
BEGIN:STANDARD
TZOFFSETFROM:-0400
TZOFFSETTO:-0500
TZNAME:EST
DTSTART:20231105T060000
END:STANDARD
BEGIN:DAYLIGHT
TZOFFSETFROM:-0500
TZOFFSETTO:-0400
TZNAME:EDT
DTSTART:20240310T070000
END:DAYLIGHT
BEGIN:STANDARD
TZOFFSETFROM:-0400
TZOFFSETTO:-0500
TZNAME:EST
DTSTART:20241103T060000
END:STANDARD
BEGIN:DAYLIGHT
TZOFFSETFROM:-0500
TZOFFSETTO:-0400
TZNAME:EDT
DTSTART:20250309T070000
END:DAYLIGHT
BEGIN:STANDARD
TZOFFSETFROM:-0400
TZOFFSETTO:-0500
TZNAME:EST
DTSTART:20251102T060000
END:STANDARD
END:VTIMEZONE
BEGIN:VEVENT
DTSTART;TZID=America/New_York:20240615T183000
DTEND;TZID=America/New_York:20240615T213000
DTSTAMP:20260423T051416
CREATED:20240601T190413Z
LAST-MODIFIED:20240601T190413Z
UID:16701-1718476200-1718487000@finlandiafoundation.org
SUMMARY:MD: A Midsummer Night's Comedy
DESCRIPTION:FFN Performer of the Year Miska Kajanus entertains members and friends of the Baltimore area.
URL:https://finlandiafoundation.org/event/md-a-midsummer-nights-comedy/
LOCATION:MA
CATEGORIES:Finnish-American Events,Juhannus,Performer of the Year
END:VEVENT
BEGIN:VEVENT
DTSTART;VALUE=DATE:20240614
DTEND;VALUE=DATE:20240617
DTSTAMP:20260423T051416
CREATED:20240614T135432Z
LAST-MODIFIED:20240614T135517Z
UID:16782-1718323200-1718582399@finlandiafoundation.org
SUMMARY:CO: Scandinavian Midsummer Festival
DESCRIPTION:Finlandia Foundation of Colorado is hosting a table at this family-friendly\, three-day celebration of Nordic culture in Golden. \nCheck the website for hours.
URL:https://finlandiafoundation.org/event/co-scandinavian-midsummer-festival/
LOCATION:MA
CATEGORIES:Juhannus,Nordic heritage events
END:VEVENT
END:VCALENDAR